BEGIN:VCALENDAR
VERSION:2.0
PRODID:https://www.moernsheim.de/
X-PUBLISHED-TTL:P1D
BEGIN:VEVENT
UID:69e6e5b37fbea
DTSTART:20261003T080000Z
SEQUENCE:0
TRANSP:OPAQUE
DTEND:20261003T110000Z
URL:https://www.moernsheim.de/veranstaltungen/auf_den_spuren_der_steinbrech
 e-699073/
LOCATION:- Veranstaltung ohne festen Ort - Mörnsheim
SUMMARY:Auf den Spuren der Steinbrecher
DESCRIPTION:Erlebniswanderung zu alten\, verlassenen Steinbrüchen
DTSTAMP:20260421T044923Z
END:VEVENT
END:VCALENDAR